BEGIN:VCALENDAR
VERSION:2.0
PRODID:-//wp-events-plugin.com//7.2.2.1//EN
TZID:Europe/Berlin
X-WR-TIMEZONE:Europe/Berlin
BEGIN:VEVENT
UID:4-430@xn--sv-mhlhausen-glb.de
DTSTART;TZID=Europe/Berlin:20231227T053000
DTEND;TZID=Europe/Berlin:20231227T163000
DTSTAMP:20231214T071610Z
URL:https://xn--sv-mhlhausen-glb.de/skiclub/events/test-tagesskifahrt/
SUMMARY:Eröffnungsfahrt Steinplatte
DESCRIPTION:Die diesjährige Eröffnungsfahrt geht in das Skigebiet Winklmo
 os/Steinplatte\, welches auf einer Höhe von 750 – 1900 m liegt. Es biet
 et 50 km bestens präparierte Pisten\, 9 Sessellifte\, 2 Schlepplifte und 
 2 Gondelbahnen. Aufgrund der Mischung von leichten\, mittelschweren und sc
 hweren Abfahrten ist dieses Skigebiet für Familien und Anfänger\, aber a
 uch für Fortgeschrittene geeignet. Mit nur einer Stunde Autofahrt ist es 
 von München aus das erste große Skigebiet\, welches ein wunderschönes B
 ergpanorama bietet.\n\nGesamtpreis:&nbsp\; &nbsp\;Erwachsen: 80€&nbsp\;&
 nbsp\;&nbsp\;&nbsp\;&nbsp\;&nbsp\; Jugend:&nbsp\; 67€&nbsp\;&nbsp\;&nbsp
 \;&nbsp\;&nbsp\;&nbsp\;&nbsp\; Kind: 55€&nbsp\;&nbsp\;&nbsp\;&nbsp\;&nbs
 p\;&nbsp\;&nbsp\;&nbsp\;&nbsp\;&nbsp\;&nbsp\;&nbsp\;\n\nZuschlag für Nich
 tmitglieder: 10€\n\nZuschlag Spätanmelder: 5€\n\n 	Anmeldeschluss: 13
 .12.2023\n 	Anmeldeschluss: 24.12.2023&nbsp\;\n\nRegelungen:&nbsp\;&nbsp\;
 &nbsp\;&nbsp\;&nbsp\;&nbsp\;&nbsp\; &nbsp\;&nbsp\;&nbsp\;&nbsp\;&nbsp\;&nb
 sp\;&nbsp\;&nbsp\;&nbsp\;&nbsp\;&nbsp\;&nbsp\;&nbsp\;\n\n 	&nbsp\;Tagesfah
 rten finden statt\, wenn zum 1. Anmeldeschluss 30 Pers. angemeldet sind\n 
 	Anmeldung ist gültig\, sobald der Gesamtpreis auf das Skiclub-Konto übe
 rwiesen ist\n 	Bei Absage durch den Skiclub (spätestens 3 Tage zuvor) wir
 d das Geld zurückgezahlt\n 	Bei Absage durch angemeldete Person\, gibt es
  kein Geld nicht zurück\n 	Es steht der angemeldeten Person jedoch frei e
 inen Ersatz für sich zu suchen\n\nAlterszuordnung:&nbsp\;&nbsp\;&nbsp\; &
 nbsp\; &nbsp\; &nbsp\; &nbsp\; &nbsp\; &nbsp\; Kind 2008 – 2017 / Jugend
  2005 – 2007 / Erwachsen bis 2004\n\nKonto Skiclub:&nbsp\;&nbsp\;&nbsp\;
 &nbsp\;&nbsp\; &nbsp\; &nbsp\; &nbsp\; &nbsp\; &nbsp\; &nbsp\; &nbsp\; &nb
 sp\; &nbsp\;IBAN: DE54 7506 9014 0006 8136 66\n\nVerwendungszweck:&nbsp\; 
 &nbsp\; &nbsp\; &nbsp\; &nbsp\; &nbsp\;[Name Skifahrt]\n&nbsp\; &nbsp\; &n
 bsp\; &nbsp\; &nbsp\; &nbsp\; &nbsp\; &nbsp\; &nbsp\; &nbsp\; &nbsp\; &nbs
 p\; &nbsp\; &nbsp\; &nbsp\; &nbsp\; &nbsp\; &nbsp\; &nbsp\; &nbsp\; &nbsp\
 ; &nbsp\; &nbsp\; &nbsp\; &nbsp\; &nbsp\; &nbsp\; &nbsp\;[Kind/Jugend/Erwa
 chsen]: [Vorname (1) Name (1)]\n&nbsp\; &nbsp\; &nbsp\; &nbsp\; &nbsp\; &n
 bsp\; &nbsp\; &nbsp\; &nbsp\; &nbsp\; &nbsp\; &nbsp\; &nbsp\; &nbsp\; &nbs
 p\; &nbsp\; &nbsp\; &nbsp\; &nbsp\; &nbsp\; &nbsp\; &nbsp\; &nbsp\; &nbsp\
 ; &nbsp\; &nbsp\; &nbsp\; &nbsp\;[Kind/Jugend/Erwachsen]: [Vorname (2) Nam
 e (2)]\n\nKommentar Anmeldung:&nbsp\; [Kind/Jugend/Erwachsen]: [Vorname (1
 ) Name (1)]\n&nbsp\; &nbsp\; &nbsp\; &nbsp\; &nbsp\; &nbsp\; &nbsp\; &nbsp
 \; &nbsp\; &nbsp\; &nbsp\; &nbsp\; &nbsp\; &nbsp\; &nbsp\; &nbsp\; &nbsp\;
  &nbsp\; &nbsp\; &nbsp\; &nbsp\; &nbsp\; &nbsp\; &nbsp\; &nbsp\; &nbsp\; &
 nbsp\; &nbsp\;[Kind/Jugend/Erwachsen]: [Vorname (2) Name (2)]\n\nRückfrag
 en:&nbsp\; &nbsp\; &nbsp\; &nbsp\; &nbsp\; &nbsp\; &nbsp\; &nbsp\; &nbsp\;
  &nbsp\; &nbsp\; &nbsp\; &nbsp\; &nbsp\;skiclub@sv-mühlhausen.de oder Tel
 : 0151/40021244
CATEGORIES:SV Mühlhausen,Abteilung Skiclub
LOCATION:Skigebiet Steinplatte / Waidring\, Waidring\, Waidring\, Österrei
 ch
X-APPLE-STRUCTURED-LOCATION;VALUE=URI;X-ADDRESS=Waidring\, Waidring\, Öste
 rreich;X-APPLE-RADIUS=100;X-TITLE=Skigebiet Steinplatte / Waidring:geo:0,0
END:VEVENT
BEGIN:VTIMEZONE
TZID:Europe/Berlin
X-LIC-LOCATION:Europe/Berlin
BEGIN:STANDARD
DTSTART:20231029T020000
TZOFFSETFROM:+0200
TZOFFSETTO:+0100
TZNAME:CET
END:STANDARD
END:VTIMEZONE
END:VCALENDAR