BEGIN:VCALENDAR
VERSION:2.0
PRODID:-//wp-events-plugin.com//7.2.2.1//EN
TZID:Europe/Berlin
X-WR-TIMEZONE:Europe/Berlin
BEGIN:VEVENT
UID:4-425@xn--sv-mhlhausen-glb.de
DTSTART;TZID=Europe/Berlin:20230422T190000
DTEND;TZID=Europe/Berlin:20230422T230000
DTSTAMP:20221116T173137Z
URL:https://xn--sv-mhlhausen-glb.de/skiclub/events/wattturnier-5/
SUMMARY:Wattturnier
DESCRIPTION:
CATEGORIES:SV Mühlhausen,Abteilung Skiclub
LOCATION:Sportheim Mühlhausen\, Drahtgasse\, Mühlhausen\, 93333\, Deutsch
 land\, Deutschland
X-APPLE-STRUCTURED-LOCATION;VALUE=URI;X-ADDRESS=Drahtgasse\, Mühlhausen\, 
 93333\, Deutschland\, Deutschland;X-APPLE-RADIUS=100;X-TITLE=Sportheim Mü
 hlhausen:geo:0,0
END:VEVENT
BEGIN:VTIMEZONE
TZID:Europe/Berlin
X-LIC-LOCATION:Europe/Berlin
BEGIN:DAYLIGHT
DTSTART:20230326T030000
TZOFFSETFROM:+0100
TZOFFSETTO:+0200
TZNAME:CEST
END:DAYLIGHT
END:VTIMEZONE
END:VCALENDAR